BEGIN:VCALENDAR
VERSION:2.0
PRODID:-//ChamberMaster//Event Calendar 2.0//EN
METHOD:PUBLISH
X-PUBLISHED-TTL:P1H
REFRESH-INTERVAL:P1H
CALSCALE:GREGORIAN
BEGIN:VTIMEZONE
TZID:America/New_York
BEGIN:DAYLIGHT
RRULE:FREQ=YEARLY;BYMONTH=3;BYDAY=2SU
DTSTART:20070101T000000
TZOFFSETFROM:-0500
TZOFFSETTO:-0400
TZNAME:Eastern Daylight Time
END:DAYLIGHT
BEGIN:STANDARD
RRULE:FREQ=YEARLY;BYMONTH=11;BYDAY=1SU
DTSTART:20070101T000000
TZOFFSETFROM:-0400
TZOFFSETTO:-0500
TZNAME:Eastern Standard Time
END:STANDARD
END:VTIMEZONE
BEGIN:VEVENT
DTSTART;TZID=America/New_York:20260425T170000
DTEND;TZID=America/New_York:20260425T200000
X-MICROSOFT-CDO-ALLDAYEVENT:FALSE
SUMMARY:BEACON for English Language & Literacy Scrabble Scramble Fundraiser
DESCRIPTION:This year's event\, presented by our generous title sponsor\, Quaker Custom Homes\, promises an evening of engaging competition\, community connection\, and meaningful impact. The Scrabble  Scramble isn't just a game night it's an opportunity to celebrate the joy of learning and support a vital cause. With competitive Scrabble  play\, exciting prizes\, delicious food\, a 50/50 draw\, and a raffle featuring amazing items\, there's something for everyone to enjoy. No Scrabble experience is needed we'll teach you everything you need to know! You'll work with your team to compete against other teams for first and second place\, all while having fun together!\nTickets can be purchased at Benedictine Sisters of VA/BEACON for English Language and Literacy   Scrabble Scramble
X-ALT-DESC;FMTTYPE=text/html:<!DOCTYPE html><html><head><title></title></head><body aria-disabled="false"><p>This year&rsquo\;s event\, presented by our generous title sponsor\, Quaker Custom Homes\, promises an evening of engaging competition\, community connection\, and meaningful impact. The Scrabble&reg\; Scramble isn&rsquo\;t just a game night&mdash\;it&rsquo\;s an opportunity to celebrate the joy of learning and support a vital cause. With competitive Scrabble&reg\; play\, exciting prizes\, delicious food\, a 50/50 draw\, and a raffle featuring amazing items\, there&rsquo\;s something for everyone to enjoy. No Scrabble experience is needed&mdash\;we&rsquo\;ll teach you everything you need to know! You&rsquo\;ll work with your team to compete against other teams for first and second place\, all while having fun together!</p><p><br></p><p>Tickets can be purchased at&nbsp\;<a fr-original-style="" href="https://insidenovatix.com/events/scrabble-scrambleforBEACON?blm_aid=0" style="user-select: auto\;">Benedictine Sisters of VA/BEACON for English Language and Literacy &ndash\; Scrabble Scramble</a>&nbsp\;</p></body></html>
LOCATION:9535 Linton Hall Rd Bristow VA 20136
UID:e.2499.1427384
SEQUENCE:3
DTSTAMP:20260425T184334Z
URL:https://princewilliamchamberofcommerce.growthzoneapp.com/eventcalendar/Details/beacon-for-english-language-literacy-scrabble-scramble-fundraiser-1688110?sourceTypeId=Hub
END:VEVENT
END:VCALENDAR
