BEGIN:VCALENDAR
VERSION:2.0
PRODID:-//ChamberMaster//Event Calendar 2.0//EN
METHOD:PUBLISH
X-PUBLISHED-TTL:P1H
REFRESH-INTERVAL:P1H
CALSCALE:GREGORIAN
BEGIN:VTIMEZONE
TZID:America/New_York
BEGIN:DAYLIGHT
RRULE:FREQ=YEARLY;BYMONTH=3;BYDAY=2SU
DTSTART:20070101T000000
TZOFFSETFROM:-0500
TZOFFSETTO:-0400
TZNAME:Eastern Daylight Time
END:DAYLIGHT
BEGIN:STANDARD
RRULE:FREQ=YEARLY;BYMONTH=11;BYDAY=1SU
DTSTART:20070101T000000
TZOFFSETFROM:-0400
TZOFFSETTO:-0500
TZNAME:Eastern Standard Time
END:STANDARD
END:VTIMEZONE
BEGIN:VEVENT
DTSTART;TZID=America/New_York:20260613T140000
DTEND;TZID=America/New_York:20260613T163000
X-MICROSOFT-CDO-ALLDAYEVENT:FALSE
SUMMARY:Cupcakes with a Gourmet Twist-Cupcake Decorating Class!
DESCRIPTION:Berry Luxe!  Date: June 13th\, 2026 \nTime: 2:00-4:30 PM \nLocation: Laconiko Event Room\, Manassas\, VA \nLimited spots available. Join Celebrity Pastry Chef Dawn Alston of Ravy Cakes a competitor on Food Network's "The Wedding Cake Championship\," for a fun and creative cupcake decorating class! Celebrate the flavors of the upcoming summer in this hands-on cupcake decorating class featuring vibrant berries and a unique twist of Gourmet Olive Oil and Dark Balsamic Strawberry Vinegar.\n In this interactive experience\, you'll watch a live demonstration on how to bake light\, flavorful cupcakes infused with Laconiko's premium olive oil\, followed by step-by-step guidance on creating a silky buttercream and a fresh\, seasonal berry compote. You'll also learn how to incorporate Laconiko's strawberry Dark Balsamic Strawberry Vinegar for a bright & delicious flavor profile that elevates each bite. After the demonstrations\, it's your turn to get creative! Each participant will decorate four cupcakes using a variety of buttercream piping techniques\, perfect for beginners and those looking to refine their skills.\n Along the way\, you'll have the opportunity to sample cupcakes and enjoy the delicious combinations as you work. Whether you're a baking enthusiast or just looking for a fun and flavorful experience\, this class is the perfect way to indulge your creativity and your sweet tooth. What's Included:\nLive baking & decorating demonstrations \nInstruction on buttercream\, berry compote\, and piping techniques\nFour cupcakes to decorate and take home \nCupcake samples to enjoy during class \nUse of premium ingredients featuring \nLaconiko products \nBaking & Decorating tips & techniques plus the recipes! Come ready to learn\, taste\, and create something beautiful & delicious! This class is open to both adults and children. Children ages 10 and up are welcome to participate with a parent or guardian. Each participant must have their own ticket. \nAbout Chef Dawn Celebrity Pastry Chef Dawn Marie Alston of Ravy Cakes\, LLC is an award winning Pastry Chef who enjoys serving her community\, Instructing baking & pastry\, and cake decorating classes for both children and adults. Chef Dawn enjoys instructing the youth and adults by teaching culinary arts enrichment programs.\n Dawn Alston of Ravy Cakes\, a Philadelphia\, Pennsylvania native\, grew up in Northern Virginia. She developed her passion of baking at the age of six\, thanks to her Uncle David. Uncle David was well known for his Southern cuisine and cakes made from scratch. \nEvery opportunity she had with him\, she tagged along in the kitchen\, especially during cake baking time! Her last and most fond memory of time spent with her Uncle David was very sweet: He baked the family a mouthwatering lemon pound cake that they eagerly lined up in the kitchen to taste. It's amazing how a freshly baked cake can bring joy\, happiness\, and togetherness to family\, this is what will forever motivate Chef Dawn to create the most delicious cakes imaginable. \nPastry Chef Dawn holds and Associate of Science degree in Culinary Arts with a concentration in Baking & Pastry from The Arts Institute of Washington\, and a vast of certifications and awards. \nCompeting in cake competitions is something that Chef Dawn loves to do.Competing on "Food Networks" The Wedding Cake Championship was a grand highlight in her career. Chef Dawn takes great pride in coaching and mentoring her students\, Some who have competed on The Food Network and various competitions.\n Chef Dawn serves the entire DMV and Beyond! www.ravycakes.com FB: https://www.facebook.com/ravycakes IG: @myravycakes Tickets & Registration $ 70 per person All materials\, tastings\, beverages & take-home goodies included. Space is intentionally limited to ensure a high-quality\, personal experience.
X-ALT-DESC;FMTTYPE=text/html:<!DOCTYPE html><html><head><title></title></head><body aria-disabled="false"><p><strong fr-original-style="" style="font-weight: 700\;">Berry Luxe! &nbsp\;Date: June 13th\, 2026</strong> <br>Time: 2:00-4:30 PM <br>Location: Laconiko Event Room\, Manassas\, VA <br><u>Limited spots available</u>. </p><p>Join Celebrity Pastry Chef Dawn Alston of Ravy Cakes a competitor on Food Network&#39\;s &quot\;The Wedding Cake Championship\,&quot\; for a fun and creative cupcake decorating class!&nbsp\;</p><p>Celebrate the flavors of the upcoming summer in this hands-on cupcake decorating class featuring vibrant berries and a unique twist of Gourmet Olive Oil and Dark Balsamic Strawberry Vinegar.<br>&nbsp\;In this interactive experience\, you&#39\;ll watch a live demonstration on how to bake light\, flavorful cupcakes infused with Laconiko&#39\;s premium olive oil\, followed by step-by-step guidance on creating a silky buttercream and a fresh\, seasonal berry compote.</p><p>&nbsp\;You&#39\;ll also learn how to incorporate Laconiko&#39\;s strawberry Dark Balsamic Strawberry Vinegar for a bright &amp\; delicious flavor profile that elevates each bite. After the demonstrations\, it&rsquo\;s your turn to get creative! Each participant will decorate four cupcakes using a variety of buttercream piping techniques\, perfect for beginners and those looking to refine their skills.<br>&nbsp\;Along the way\, you&rsquo\;ll have the opportunity to sample cupcakes and enjoy the delicious combinations as you work. Whether you&#39\;re a baking enthusiast or just looking for a fun and flavorful experience\, this class is the perfect way to indulge your creativity and your sweet tooth.</p><p>&nbsp\;<u><strong fr-original-style="" style="font-weight: 700\;">What&rsquo\;s Included:</strong></u><br>Live baking &amp\; decorating demonstrations <br>Instruction on buttercream\, berry compote\, and piping techniques<br>Four cupcakes to decorate and take home <br>Cupcake samples to enjoy during class <br>Use of premium ingredients featuring <br>Laconiko products <br>Baking &amp\; Decorating tips &amp\; techniques plus the recipes!&nbsp\;</p><p>Come ready to learn\, taste\, and create something beautiful &amp\; delicious!&nbsp\;</p><p>This class is open to both adults and children. Children ages 10 and up are welcome to participate with a parent or guardian. Each participant must have their own ticket.&nbsp\;</p><p><strong fr-original-style="" style="font-weight: 700\;"><br></strong></p><p><strong fr-original-style="" style="font-weight: 700\;">About Chef Dawn</strong></p><p>&nbsp\;Celebrity Pastry Chef Dawn Marie Alston of Ravy Cakes\, LLC is an award winning Pastry Chef who enjoys serving her community\, Instructing baking &amp\; pastry\, and cake decorating classes for both children and adults. Chef Dawn enjoys instructing the youth and adults by teaching culinary arts enrichment programs.<br>&nbsp\;Dawn Alston of Ravy Cakes\, a Philadelphia\, Pennsylvania native\, grew up in Northern Virginia. She developed her passion of baking at the age of six\, thanks to her Uncle David. Uncle David was well known for his Southern cuisine and cakes made from scratch. <br>Every opportunity she had with him\, she tagged along in the kitchen\, especially during cake baking time! Her last and most fond memory of time spent with her Uncle David was very sweet: He baked the family a mouthwatering lemon pound cake that they eagerly lined up in the kitchen to taste. It&rsquo\;s amazing how a freshly baked cake can bring joy\, happiness\, and togetherness to family\, this is what will forever motivate Chef Dawn to create the most delicious cakes imaginable. <br>Pastry Chef Dawn holds and Associate of Science degree in Culinary Arts with a concentration in Baking &amp\; Pastry from The Arts Institute of Washington\, and a vast of certifications and awards. <br>Competing in cake competitions is something that Chef Dawn loves to do.</p><p>Competing on &ldquo\;Food Networks&rdquo\; The Wedding Cake Championship was a grand highlight in her career. Chef Dawn takes great pride in coaching and mentoring her students\, Some who have competed on The Food Network and various competitions.<br>&nbsp\;Chef Dawn serves the entire DMV and Beyond!</p><p>&nbsp\;www.ravycakes.com FB: https://www.facebook.com/ravycakes IG: @myravycakes&nbsp\;</p><p><strong fr-original-style="" style="font-weight: 700\;">Tickets &amp\; Registration $ 70 per person </strong></p><p>All materials\, tastings\, beverages &amp\; take-home goodies included.&nbsp\;</p><p>Space is intentionally limited to ensure a high-quality\, personal experience.</p></body></html>
LOCATION:11301 Braden Drive Manassas VA 20109
UID:e.2499.1450208
SEQUENCE:3
DTSTAMP:20260425T184248Z
URL:https://princewilliamchamberofcommerce.growthzoneapp.com/eventcalendar/Details/cupcakes-with-a-gourmet-twist-cupcake-decorating-class-1717788?sourceTypeId=Hub
END:VEVENT
END:VCALENDAR
