BEGIN:VCALENDAR
VERSION:2.0
PRODID:-//ChamberMaster//Event Calendar 2.0//EN
METHOD:PUBLISH
X-PUBLISHED-TTL:P1H
REFRESH-INTERVAL:P1H
CALSCALE:GREGORIAN
BEGIN:VTIMEZONE
TZID:America/New_York
BEGIN:DAYLIGHT
RRULE:FREQ=YEARLY;BYMONTH=3;BYDAY=2SU
DTSTART:20070101T000000
TZOFFSETFROM:-0500
TZOFFSETTO:-0400
TZNAME:Eastern Daylight Time
END:DAYLIGHT
BEGIN:STANDARD
RRULE:FREQ=YEARLY;BYMONTH=11;BYDAY=1SU
DTSTART:20070101T000000
TZOFFSETFROM:-0400
TZOFFSETTO:-0500
TZNAME:Eastern Standard Time
END:STANDARD
END:VTIMEZONE
BEGIN:VEVENT
DTSTART;TZID=America/New_York:20260422T083000
DTEND;TZID=America/New_York:20260422T103000
X-MICROSOFT-CDO-ALLDAYEVENT:FALSE
SUMMARY:Visionary Voices: Putting Visions Into Concepts and Concepts Into Reality
DESCRIPTION:As the Innovation District moves from vision to reality\, a bigger question is taking shape. What will this place actually become in the years ahead? At Visionary Voices\, join Stephen Coulston of Perkins&Will and Kevin Byrne of The University Financing Foundation for a conversation on how physical environments shape innovation. From lab space to mixed-use districts\, the way a place is designed can influence how people connect\, collaborate\, and build new ideas.\nFor more information and to register\, CLICK HERE
X-ALT-DESC;FMTTYPE=text/html:<!DOCTYPE html><html><head><title></title></head><body aria-disabled="false"><p>As the Innovation District moves from vision to reality\, a bigger question is taking shape. What will this place actually become in the years ahead? At Visionary Voices\, join Stephen Coulston of Perkins&amp\;Will and Kevin Byrne of The University Financing Foundation for a conversation on how physical environments shape innovation. From lab space to mixed-use districts\, the way a place is designed can influence how people connect\, collaborate\, and build new ideas.</p><p><br></p><p>For more information and to register\, <a fr-original-style="" href="https://www.eventbrite.com/e/visionary-voices-putting-visions-into-concepts-and-concepts-into-reality-tickets-1985425736825?aff=oddtdtcreator" style="user-select: auto\;">CLICK HERE</a></p></body></html>
LOCATION:9310 Discovery Blvd Manassas VA 20109
UID:e.2499.1447487
SEQUENCE:3
DTSTAMP:20260425T184412Z
URL:https://princewilliamchamberofcommerce.growthzoneapp.com/eventcalendar/Details/visionary-voices-putting-visions-into-concepts-and-concepts-into-reality-1714429?sourceTypeId=Hub
END:VEVENT
END:VCALENDAR
